BEGIN:VCALENDAR
VERSION:2.0
PRODID:-//Daisy and her Farm - ECPv5.3.1.1//NONSGML v1.0//EN
CALSCALE:GREGORIAN
METHOD:PUBLISH
X-WR-CALNAME:Daisy and her Farm
X-ORIGINAL-URL:https://daisyandherfarm.de
X-WR-CALDESC:Veranstaltungen für Daisy and her Farm
BEGIN:VTIMEZONE
TZID:Europe/Berlin
BEGIN:DAYLIGHT
TZOFFSETFROM:+0100
TZOFFSETTO:+0200
TZNAME:CEST
DTSTART:20200329T010000
END:DAYLIGHT
BEGIN:STANDARD
TZOFFSETFROM:+0200
TZOFFSETTO:+0100
TZNAME:CET
DTSTART:20201025T010000
END:STANDARD
END:VTIMEZONE
BEGIN:VEVENT
DTSTART;TZID=Europe/Berlin:20200510T180000
DTEND;TZID=Europe/Berlin:20200510T200000
DTSTAMP:20260424T122202
CREATED:20200203T213329Z
LAST-MODIFIED:20200203T213329Z
UID:139-1589133600-1589140800@daisyandherfarm.de
SUMMARY:Tess&Daisy…harfenpop und indierock
DESCRIPTION:
URL:https://daisyandherfarm.de/konzert/tessdaisyharfenpop-und-indierock-4/
LOCATION:Kulturschmiede Eichendrod- Lautertal
END:VEVENT
END:VCALENDAR